BEGIN:VCALENDAR
VERSION:2.0
PRODID:-//Harvest Time in Brentwood - ECPv6.15.20//NONSGML v1.0//EN
CALSCALE:GREGORIAN
METHOD:PUBLISH
X-ORIGINAL-URL:https://ftp.harvestforyou.com
X-WR-CALDESC:Events for Harvest Time in Brentwood
REFRESH-INTERVAL;VALUE=DURATION:PT1H
X-Robots-Tag:noindex
X-PUBLISHED-TTL:PT1H
BEGIN:VTIMEZONE
TZID:UTC
BEGIN:STANDARD
TZOFFSETFROM:+0000
TZOFFSETTO:+0000
TZNAME:UTC
DTSTART:20180101T000000
END:STANDARD
END:VTIMEZONE
BEGIN:VEVENT
DTSTART;TZID=UTC:20190813T113000
DTEND;TZID=UTC:20190813T120000
DTSTAMP:20260421T162517
CREATED:20190723T050203Z
LAST-MODIFIED:20190723T050203Z
UID:3997-1565695800-1565697600@ftp.harvestforyou.com
SUMMARY:Storytime: Preschool 3-5 years
DESCRIPTION:Preschool Time: 11:30AM-12PM \nShare books and fingerplays and prepare for a school environment. In the Brentwood Library program room in the children’s section.  \nAll ages and abilities welcome.
URL:https://ftp.harvestforyou.com/event/storytime-preschool-3-5-years-9/
LOCATION:Brentwood Library\, 104 Oak St.\, Brentwood\, CA\, 94513\, US
ATTACH;FMTTYPE=image/jpeg:https://ftp.harvestforyou.com/wp-content/uploads/2019/07/3988_image_41106050_1240728416076083_354319082339696640_o.jpg
END:VEVENT
BEGIN:VEVENT
DTSTART;TZID=UTC:20190810T170000
DTEND;TZID=UTC:20190810T220000
DTSTAMP:20260421T162517
CREATED:20190731T005341Z
LAST-MODIFIED:20190731T005341Z
UID:4076-1565456400-1565474400@ftp.harvestforyou.com
SUMMARY:Salsa at the Vineyards
DESCRIPTION:It’s Salsa Night at the Vineyards!!  \nJoin us as we learn the romantic rhythm and moves of the sexy Salsa Dance!!  \nDance instruction will begin at 6pm\, with open dancing beginning at 7pm. \nThis event is open to all levels of dance expertise! If you LOVE to Salsa dance… this event is for you! If you have never Salsa Danced.. this event is for you!! We are going to dance the night away!!  \nThere will be assorted seating available at Bistro Tables on a first come\, first serve basis. \nDoors open at 5pm. \nWe will have a food truck available for purchase.  \nThis event is indoors and is for 21+ only.  \nThemed Attire is Strongly Encouraged!  \nNO OUTSIDE ALCOHOL IS PERMITTED ON OUR PROPERTY. There will be NO REFUNDs given for this event.
URL:https://ftp.harvestforyou.com/event/salsa-at-the-vineyards/
LOCATION:Campos Family Vineyards\, 3501 Byer Road\, Byron\, CA\, 94514\, US
ATTACH;FMTTYPE=image/jpeg:https://ftp.harvestforyou.com/wp-content/uploads/2019/07/4076_image_64818829_10161976672415261_2846874056601370624_o.jpg
END:VEVENT
BEGIN:VEVENT
DTSTART;TZID=UTC:20190810T080000
DTEND;TZID=UTC:20190810T120000
DTSTAMP:20260421T162517
CREATED:20190301T120520Z
LAST-MODIFIED:20190301T120520Z
UID:2684-1565424000-1565438400@ftp.harvestforyou.com
SUMMARY:Farmers' Market
DESCRIPTION:We love the Farmer’s Market and love to see all you happy people.  Come in for our World Famous Mimosas!  We open at 9:00 a.m..
URL:https://ftp.harvestforyou.com/event/farmers-market-16/
LOCATION:Brentwood’s Co. Co. County Wine Company\, 633 1st St\, Brentwood\, CA\, 94513\, US
ATTACH;FMTTYPE=image/jpeg:https://ftp.harvestforyou.com/wp-content/uploads/2019/03/2668_image_51236078_10156398017089335_4333931419697938432_n.jpg
END:VEVENT
BEGIN:VEVENT
DTSTART;TZID=UTC:20190809T190000
DTEND;TZID=UTC:20190809T220000
DTSTAMP:20260421T162517
CREATED:20190731T005825Z
LAST-MODIFIED:20190731T005825Z
UID:4085-1565377200-1565388000@ftp.harvestforyou.com
SUMMARY:Friday Night LIVE with Toree McGee
DESCRIPTION:The fabulous Toree McGee returns to CoCo’s with her incredible acoustic stylings of country\, rock\, Top40\, and more.  Don’t miss it!
URL:https://ftp.harvestforyou.com/event/friday-night-live-with-toree-mcgee/
LOCATION:Brentwood’s Co. Co. County Wine Company\, 633 1st St\, Brentwood\, CA\, 94513\, US
ATTACH;FMTTYPE=image/jpeg:https://ftp.harvestforyou.com/wp-content/uploads/2019/07/4085_image_56505438_2266080486768652_6845302134582280192_o.jpg
END:VEVENT
BEGIN:VEVENT
DTSTART;TZID=UTC:20190806T173000
DTEND;TZID=UTC:20190806T193000
DTSTAMP:20260421T162517
CREATED:20190731T010018Z
LAST-MODIFIED:20190731T010018Z
UID:4088-1565112600-1565119800@ftp.harvestforyou.com
SUMMARY:Tasting Tuesday Featuring Favalora Vineyards Winery
DESCRIPTION:Join us as Winemaker Frank Favalora from Favalora Vineyards Winery pours complimentary samples of his local wine.   \nAll wines sampled will be available for purchase by the glass & bottles purchased will be discounted $10 to enjoy here or to take home.
URL:https://ftp.harvestforyou.com/event/tasting-tuesday-featuring-favalora-vineyards-winery/
LOCATION:Zephyr Grill & Bar Brentwood\, 613 1st St\, Brentwood\, CA\, 94513\, US
ATTACH;FMTTYPE=image/jpeg:https://ftp.harvestforyou.com/wp-content/uploads/2019/07/4088_image_67356540_1322987657867229_183353554025578496_o.jpg
END:VEVENT
BEGIN:VEVENT
DTSTART;TZID=UTC:20190806T113000
DTEND;TZID=UTC:20190806T120000
DTSTAMP:20260421T162517
CREATED:20190723T050204Z
LAST-MODIFIED:20190723T050204Z
UID:3998-1565091000-1565092800@ftp.harvestforyou.com
SUMMARY:Storytime: Preschool 3-5 years
DESCRIPTION:Preschool Time: 11:30AM-12PM \nShare books and fingerplays and prepare for a school environment. In the Brentwood Library program room in the children’s section.  \nAll ages and abilities welcome.
URL:https://ftp.harvestforyou.com/event/storytime-preschool-3-5-years-10/
LOCATION:Brentwood Library\, 104 Oak St.\, Brentwood\, CA\, 94513\, US
ATTACH;FMTTYPE=image/jpeg:https://ftp.harvestforyou.com/wp-content/uploads/2019/07/3988_image_41106050_1240728416076083_354319082339696640_o.jpg
END:VEVENT
BEGIN:VEVENT
DTSTART;TZID=UTC:20190803T170000
DTEND;TZID=UTC:20190803T210000
DTSTAMP:20260421T162517
CREATED:20190731T005124Z
LAST-MODIFIED:20190731T005124Z
UID:4070-1564851600-1564866000@ftp.harvestforyou.com
SUMMARY:Honeys that Hustle Popup
DESCRIPTION:Honeys that Hustle is more than a Popup\, it’s an experience!! \nGrab your Fav Honeys and come shop\, eat\, drink wine\, and listen to music at the beautiful Petersen Vineyards Winery! \nHoneys that Hustle is the popup event featuring and supporting all female entrepreneurs. We have  everything from trendy fashion boutiques to handmade jewelry and everything in between! Plus\, photo ops\, photo booth\, a live DJ\, food\, and so much more!! So grab your gal pals and come experience a popup like no other!! \n**All attendees will receive a Swag bag and 1 free flight of wine\, courtesy of Petersen Vineyards!
URL:https://ftp.harvestforyou.com/event/honeys-that-hustle-popup/
LOCATION:Petersen Vineyards\, 101 Blaine Lane\, Knightsen\, CA\, 94548\, US
ATTACH;FMTTYPE=image/jpeg:https://ftp.harvestforyou.com/wp-content/uploads/2019/07/4070_image_61642255_10161927899060261_7756247131647639552_o.jpg
END:VEVENT
BEGIN:VEVENT
DTSTART;TZID=UTC:20190803T140000
DTEND;TZID=UTC:20190803T200000
DTSTAMP:20260421T162517
CREATED:20190717T062418Z
LAST-MODIFIED:20190717T062418Z
UID:3950-1564840800-1564862400@ftp.harvestforyou.com
SUMMARY:2019 Cruisin' Blues - Car Show & Blues Concert
DESCRIPTION:Annual Classic Car Show sponsored by the Downtown Brentwood Coalition \nIn the City Park In Brentwood & surrounding streets. \nFREE Blues Concert:\n2pm – The OSB\n4pm – The Guy Dossi Band;\n6pm – Jeffrey James Trio \nFOOD   –  KIDS ZONE – $5 BEER & WINE    \nCAR SHOW Registration $10 EVENTBRITE or purchase at Co.Co. Wine Bar at 633 1st St.  \nOnce we receive your purchase of car registration we will email you for car classification and more information. \nQuestions/Info: (925) 783-0050 or email dbcbrentwood@gmail.com
URL:https://ftp.harvestforyou.com/event/2019-cruisin-blues-car-show-blues-concert/
LOCATION:Downtown Brentwood\, Brentwood\, CA\, US
ATTACH;FMTTYPE=image/jpeg:https://ftp.harvestforyou.com/wp-content/uploads/2019/07/3950_image_65196391_2541095179257697_2433300115092406272_o.jpg
END:VEVENT
BEGIN:VEVENT
DTSTART;TZID=UTC:20190803T080000
DTEND;TZID=UTC:20190803T120000
DTSTAMP:20260421T162517
CREATED:20190301T120520Z
LAST-MODIFIED:20190301T120520Z
UID:2685-1564819200-1564833600@ftp.harvestforyou.com
SUMMARY:Farmers' Market
DESCRIPTION:We love the Farmer’s Market and love to see all you happy people.  Come in for our World Famous Mimosas!  We open at 9:00 a.m..
URL:https://ftp.harvestforyou.com/event/farmers-market-17/
LOCATION:Brentwood’s Co. Co. County Wine Company\, 633 1st St\, Brentwood\, CA\, 94513\, US
ATTACH;FMTTYPE=image/jpeg:https://ftp.harvestforyou.com/wp-content/uploads/2019/03/2668_image_51236078_10156398017089335_4333931419697938432_n.jpg
END:VEVENT
BEGIN:VEVENT
DTSTART;TZID=UTC:20190802T190000
DTEND;TZID=UTC:20190802T210000
DTSTAMP:20260421T162517
CREATED:20190723T050422Z
LAST-MODIFIED:20190723T050422Z
UID:4003-1564772400-1564779600@ftp.harvestforyou.com
SUMMARY:Starry Nights in Brentwood - The Cripple Creek Band
DESCRIPTION:The Cripple Creek Band is a Country/Southern Rock band that has taken the West Coast by storm. Their self titled debut album was released in 2015 and their second album Bonafide was released in 2017.  They have opened for and played with the following artist Whiskey Myers\, Neal McCoy\, The Cadillac Three\, Tyler Farr\, Jon Pardi\, Eli Young Band\, Colt Ford\, David Nail\, Dustin Lynch\, the Outlaws and more.  The CCB blends top notch musicianship with high-energy performances leaving every venue wanting more! \nVisit our food vendor area featuring:\nTikiz Shaved Ice\nPeke’s Ice Cream\nGirard’s Catering\nAmeci Pizza Kitchen\nMenchies
URL:https://ftp.harvestforyou.com/event/starry-nights-in-brentwood-the-cripple-creek-band/
LOCATION:City of Brentwood – Parks & Recreation\, 35 Oak Street\, Brentwood\, CA\, 94513\, US
ATTACH;FMTTYPE=image/jpeg:https://ftp.harvestforyou.com/wp-content/uploads/2019/07/4003_image_62057355_2507935775939516_6766032242482348032_o.jpg
END:VEVENT
BEGIN:VEVENT
DTSTART;TZID=UTC:20190802T173000
DTEND;TZID=UTC:20190802T213000
DTSTAMP:20260421T162517
CREATED:20190717T061921Z
LAST-MODIFIED:20190717T061921Z
UID:3947-1564767000-1564781400@ftp.harvestforyou.com
SUMMARY:Wine Down Friday - Ben Benkert
DESCRIPTION:Please give a warm welcome back to Ben Benkert!!\nBring your lawn chairs and blankets and relax on the lawn under the market lights!\nTacos el Asador will be available for purchase! Rita’s Italian Ice will be available for purchase!\nWine Down Fridays are Free and Family Friendly! (Reservations are required)\nPicnic tables available for a small fee. (General Admission tickets required in addition to picnic table reservations).\nOnly Campos Family Vineyards wine purchased at this event is allowed on the property. No outside alcohol of any kind is permitted\, all bags will be searched at check in.\nA CASH Parking fee of $5 will be collected at entry.\nGATES OPEN AT 5:30pm\, MUSIC STARTS AT 6:30pm\n**TICKET DISCLAIMER**\nIf you reserve tickets and cannot attend\, please let us know. These events DO SELL OUT and other people will not have a chance to attend if you have a ticket and do not show up. Thank you in advance for your kindness.**
URL:https://ftp.harvestforyou.com/event/wine-down-friday-ben-benkert/
ATTACH;FMTTYPE=image/jpeg:https://ftp.harvestforyou.com/wp-content/uploads/2019/07/3947_image_65466865_2398869077052768_2825481820932407296_o.jpg
END:VEVENT
BEGIN:VEVENT
DTSTART;TZID=UTC:20190802T160000
DTEND;TZID=UTC:20190802T200000
DTSTAMP:20260421T162517
CREATED:20190731T005054Z
LAST-MODIFIED:20190731T005054Z
UID:4067-1564761600-1564776000@ftp.harvestforyou.com
SUMMARY:Hayley Finetti & The T&M band
DESCRIPTION:We are excited to announce this local musician combo first time paired up together for a Friday Wine Down at Petersen Vineyards. East bay talent show winner Hayley Finetti and The T&M band\, Tim Cecchini and Mark Furtado\, team up on Friday August 2nd to entertain us. \nThe event is free\, just come and wine down after a long week of work at Petersen Vineyards.
URL:https://ftp.harvestforyou.com/event/hayley-finetti-the-tm-band/
ATTACH;FMTTYPE=image/jpeg:https://ftp.harvestforyou.com/wp-content/uploads/2019/07/4067_image_66263019_930683280606093_5490454804138295296_o.jpg
END:VEVENT
BEGIN:VEVENT
DTSTART;TZID=UTC:20190801T110000
DTEND;TZID=UTC:20190801T220000
DTSTAMP:20260421T162517
CREATED:20190731T004916Z
LAST-MODIFIED:20190731T004916Z
UID:4064-1564657200-1564696800@ftp.harvestforyou.com
SUMMARY:Celebrating 3 Years in Downtown Brentwood!
DESCRIPTION:Join us Thursday\, August 1st for lunch or dinner to celebrate our  3rd year in Downtown Brentwood and help us raise funds for the Brentwood Police Activities League.  We will be donating 15% of day’s sales to the very worthy cause. \nAbout Brentwood PAL:  The Brentwood Police Activities League (BPAL) is a 501(c)(3) nonprofit organization founded in 1998 through a grant offered by the John Muir Foundation. The City of Brentwood – Police Department Activities League was established to serve all children who live in or attend school in Brentwood and adjoining communities. BPAL strives to establish positive relationships between our youth\, police officers\, and the community of Brentwood. BPAL’s goals are to provide alternatives to gangs\, drugs\, and other criminal activities through a vast array of programs.
URL:https://ftp.harvestforyou.com/event/celebrating-3-years-in-downtown-brentwood/
LOCATION:Zephyr Grill & Bar Brentwood\, 613 1st St\, Brentwood\, CA\, 94513\, US
ATTACH;FMTTYPE=image/jpeg:https://ftp.harvestforyou.com/wp-content/uploads/2019/07/4064_image_67303522_1319937374838924_7949912545668628480_o.jpg
END:VEVENT
BEGIN:VEVENT
DTSTART;TZID=UTC:20190730T113000
DTEND;TZID=UTC:20190730T120000
DTSTAMP:20260421T162517
CREATED:20190723T050204Z
LAST-MODIFIED:20190723T050204Z
UID:3999-1564486200-1564488000@ftp.harvestforyou.com
SUMMARY:Storytime: Preschool 3-5 years
DESCRIPTION:Preschool Time: 11:30AM-12PM \nShare books and fingerplays and prepare for a school environment. In the Brentwood Library program room in the children’s section.  \nAll ages and abilities welcome.
URL:https://ftp.harvestforyou.com/event/storytime-preschool-3-5-years-11/
LOCATION:Brentwood Library\, 104 Oak St.\, Brentwood\, CA\, 94513\, US
ATTACH;FMTTYPE=image/jpeg:https://ftp.harvestforyou.com/wp-content/uploads/2019/07/3988_image_41106050_1240728416076083_354319082339696640_o.jpg
END:VEVENT
BEGIN:VEVENT
DTSTART;TZID=UTC:20190727T200000
DTEND;TZID=UTC:20190727T230000
DTSTAMP:20260421T162517
CREATED:20190717T062544Z
LAST-MODIFIED:20190717T062544Z
UID:3957-1564257600-1564268400@ftp.harvestforyou.com
SUMMARY:Live Music with the Jeff Edwins and Friends
DESCRIPTION:Jeff is back and he’s got the band with him!  Funk\, R & B\, Soul and a whole lot more!  Come on down and get funky with the Jeff Edwins Band.
URL:https://ftp.harvestforyou.com/event/live-music-with-the-jeff-edwins-and-friends/
LOCATION:Brentwood’s Co. Co. County Wine Company\, 633 1st St\, Brentwood\, CA\, 94513\, US
ATTACH;FMTTYPE=image/jpeg:https://ftp.harvestforyou.com/wp-content/uploads/2019/07/3957_image_66284554_10156724063194335_207853585080254464_n.jpg
END:VEVENT
BEGIN:VEVENT
DTSTART;TZID=UTC:20190727T183000
DTEND;TZID=UTC:20190727T203000
DTSTAMP:20260421T162517
CREATED:20190221T051932Z
LAST-MODIFIED:20190221T051932Z
UID:2642-1564252200-1564259400@ftp.harvestforyou.com
SUMMARY:Lobster Feed in the Vineyards
DESCRIPTION:Join us for our 9th annual Lobster Fest at the vineyards catered by Sorrensons Catering. What better way to spend a Saturday night in July than enjoying fabulous Hannah Nicole Wines\, music and dancing & eating lobster off of butcher paper at the vineyards.  \nOnce all bibs are tied\, steaming pots full of lobsters\, prawns\, artichokes\, beef hot links\, potatoes\, onions\, and corn will be poured along the table. It’s all topped off with fresh sourdough baguettes and cups of melted butter. \nFresh Maine Lobster: One 1¼ lb\nPrawns: Five 16-20 ct.\nVegetables: ear corn\, whole head garlic\, artichoke\, whole yellow onion\, whole red potato\nLouisiana Hot Links (All Beef)\nFresh Sourdough Baguette\nDrawn Butter\nChocolate It’s It Ice Cream Sandwiches
URL:https://ftp.harvestforyou.com/event/lobster-feed-in-the-vineyards/
LOCATION:Hannah Nicole Vineyards & Winery\, 6700 Balfour Rd\, Brentwood\, CA\, 94513\, US
ATTACH;FMTTYPE=image/jpeg:https://ftp.harvestforyou.com/wp-content/uploads/2019/02/2642_image_52595815_2501101036569931_1169663746688155648_n.jpg
END:VEVENT
BEGIN:VEVENT
DTSTART;TZID=UTC:20190727T130000
DTEND;TZID=UTC:20190727T160000
DTSTAMP:20260421T162517
CREATED:20190627T025137Z
LAST-MODIFIED:20190627T025137Z
UID:3835-1564232400-1564243200@ftp.harvestforyou.com
SUMMARY:Summer Wine Stroll In Downtown Brentwood
DESCRIPTION:Join us on our 1st Annual Summer Wine Stroll in Downtown Brentwood. \nPresented by the Downtown Brentwood Coalition and the CCC Winegrowers Association. \nStroll the Historic Downtown Brentwood businesses\, while enjoying amazing wines poured by the Contra Costa County Winegrowers Association\, and tasty treats provided by local resturants. \nCheck in will be located at Del Sol Energy ( 225 Oak St. ) starting at 12:30pm. They will also be hosting the Wine Shop where your can purchase your favorite wines to take home to enjoy. Open from 1-5pm. \nTickets are $30 per person\, and will include a logo wine glass and wine tote.  \nMust be 21+/over with valid ID to participate.
URL:https://ftp.harvestforyou.com/event/summer-wine-stroll-in-downtown-brentwood/
LOCATION:Brentwood\, California\, Brentwood\, CA\, 94513\, US
ATTACH;FMTTYPE=image/jpeg:https://ftp.harvestforyou.com/wp-content/uploads/2019/06/3835_image_64624733_10161994818125261_3997217412599513088_o.jpg
END:VEVENT
BEGIN:VEVENT
DTSTART;TZID=UTC:20190727T080000
DTEND;TZID=UTC:20190727T120000
DTSTAMP:20260421T162517
CREATED:20190301T120520Z
LAST-MODIFIED:20190301T120520Z
UID:2686-1564214400-1564228800@ftp.harvestforyou.com
SUMMARY:Farmers' Market
DESCRIPTION:We love the Farmer’s Market and love to see all you happy people.  Come in for our World Famous Mimosas!  We open at 9:00 a.m..
URL:https://ftp.harvestforyou.com/event/farmers-market-18/
LOCATION:Brentwood’s Co. Co. County Wine Company\, 633 1st St\, Brentwood\, CA\, 94513\, US
ATTACH;FMTTYPE=image/jpeg:https://ftp.harvestforyou.com/wp-content/uploads/2019/03/2668_image_51236078_10156398017089335_4333931419697938432_n.jpg
END:VEVENT
BEGIN:VEVENT
DTSTART;TZID=UTC:20190725T180000
DTEND;TZID=UTC:20190725T200000
DTSTAMP:20260421T162517
CREATED:20190208T052713Z
LAST-MODIFIED:20190208T052713Z
UID:2562-1564077600-1564084800@ftp.harvestforyou.com
SUMMARY:Basic Sewing for Teens and Adults
DESCRIPTION:The January 24 class is full\, but you can catch us here as we share the class with all of you. \nWant to learn to sew? This project-based class will help you learn the basics of hand and machine sewing.  \nOur first class is Thursday\, January 24 class is from 6:00 to 8:00 pm. We will be building your Sewing Tool Box. The projects will include making sewing accessories. \nRegistration is required and opens 7 days before class begins. Can’t gent into a class? Follow us  on Facebook and create with us. For ages 12 and up.
URL:https://ftp.harvestforyou.com/event/basic-sewing-for-teens-and-adults-6/
LOCATION:Brentwood Library\, 104 Oak St.\, Brentwood\, CA\, 94513\, US
ATTACH;FMTTYPE=image/jpeg:https://ftp.harvestforyou.com/wp-content/uploads/2019/02/2556_image_49864096_1326769617471962_5081336856839192576_n.jpg
END:VEVENT
BEGIN:VEVENT
DTSTART;TZID=UTC:20190723T113000
DTEND;TZID=UTC:20190723T120000
DTSTAMP:20260421T162517
CREATED:20190723T050204Z
LAST-MODIFIED:20190723T050204Z
UID:4000-1563881400-1563883200@ftp.harvestforyou.com
SUMMARY:Storytime: Preschool 3-5 years
DESCRIPTION:Preschool Time: 11:30AM-12PM \nShare books and fingerplays and prepare for a school environment. In the Brentwood Library program room in the children’s section.  \nAll ages and abilities welcome.
URL:https://ftp.harvestforyou.com/event/storytime-preschool-3-5-years-12/
LOCATION:Brentwood Library\, 104 Oak St.\, Brentwood\, CA\, 94513\, US
ATTACH;FMTTYPE=image/jpeg:https://ftp.harvestforyou.com/wp-content/uploads/2019/07/3988_image_41106050_1240728416076083_354319082339696640_o.jpg
END:VEVENT
BEGIN:VEVENT
DTSTART;TZID=UTC:20190720T080000
DTEND;TZID=UTC:20190720T120000
DTSTAMP:20260421T162517
CREATED:20190301T120520Z
LAST-MODIFIED:20190301T120520Z
UID:2687-1563609600-1563624000@ftp.harvestforyou.com
SUMMARY:Farmers' Market
DESCRIPTION:We love the Farmer’s Market and love to see all you happy people.  Come in for our World Famous Mimosas!  We open at 9:00 a.m..
URL:https://ftp.harvestforyou.com/event/farmers-market-19/
LOCATION:Brentwood’s Co. Co. County Wine Company\, 633 1st St\, Brentwood\, CA\, 94513\, US
ATTACH;FMTTYPE=image/jpeg:https://ftp.harvestforyou.com/wp-content/uploads/2019/03/2668_image_51236078_10156398017089335_4333931419697938432_n.jpg
END:VEVENT
BEGIN:VEVENT
DTSTART;TZID=UTC:20190716T173000
DTEND;TZID=UTC:20190716T193000
DTSTAMP:20260421T162517
CREATED:20190717T061849Z
LAST-MODIFIED:20190717T061849Z
UID:3944-1563298200-1563305400@ftp.harvestforyou.com
SUMMARY:Tasting Tuesday featuring Bloomfield Vineyards
DESCRIPTION:Join us as Winemaker Becky Bloomfield from Bloomfield Vineyards will pour complimentary samples of her award winning wines.  All wines sampled will be available for purchase by the glass & bottles purchased will be\ndiscounted $10 to enjoy here or to take home.
URL:https://ftp.harvestforyou.com/event/tasting-tuesday-featuring-bloomfield-vineyards/
LOCATION:Zephyr Grill & Bar Brentwood\, 613 1st St\, Brentwood\, CA\, 94513\, US
ATTACH;FMTTYPE=image/jpeg:https://ftp.harvestforyou.com/wp-content/uploads/2019/07/3944_image_66524731_1309858312513497_969482072710184960_o.jpg
END:VEVENT
BEGIN:VEVENT
DTSTART;TZID=UTC:20190713T180000
DTEND;TZID=UTC:20190713T220000
DTSTAMP:20260421T162517
CREATED:20190611T050750Z
LAST-MODIFIED:20190611T050750Z
UID:3746-1563040800-1563055200@ftp.harvestforyou.com
SUMMARY:Country Line Dancing Night!
DESCRIPTION:Join us for a beautiful hot summer night under the market lights and dance your boots off! We will have a DJ playing all of your favorite Country Music Songs PLUS two Line Dancing Instructors to teach you the steps to the dances you need help with!  \nFood Truck available for purchase.  \nThis event is 21+ please! Doors Open at 6:00pm. \nNO OUTSIDE FOOD OR ALCOHOL PERMITTED.  \nThis event will be OUTDOORS. Seating will be available.  \nNo Refund given for this event.
URL:https://ftp.harvestforyou.com/event/country-line-dancing-night-2/
LOCATION:Campos Family Vineyards\, 3501 Byer Road\, Byron\, CA\, 94514\, US
ATTACH;FMTTYPE=image/jpeg:https://ftp.harvestforyou.com/wp-content/uploads/2019/06/3746_image_59697299_10161822543295261_9008205033002500096_o.jpg
END:VEVENT
BEGIN:VEVENT
DTSTART;TZID=UTC:20190713T080000
DTEND;TZID=UTC:20190713T120000
DTSTAMP:20260421T162517
CREATED:20190301T120520Z
LAST-MODIFIED:20190301T120520Z
UID:2688-1563004800-1563019200@ftp.harvestforyou.com
SUMMARY:Farmers' Market
DESCRIPTION:We love the Farmer’s Market and love to see all you happy people.  Come in for our World Famous Mimosas!  We open at 9:00 a.m..
URL:https://ftp.harvestforyou.com/event/farmers-market-20/
LOCATION:Brentwood’s Co. Co. County Wine Company\, 633 1st St\, Brentwood\, CA\, 94513\, US
ATTACH;FMTTYPE=image/jpeg:https://ftp.harvestforyou.com/wp-content/uploads/2019/03/2668_image_51236078_10156398017089335_4333931419697938432_n.jpg
END:VEVENT
BEGIN:VEVENT
DTSTART;TZID=UTC:20190712T083000
DTEND;TZID=UTC:20190712T153000
DTSTAMP:20260421T162517
CREATED:20190518T010231Z
LAST-MODIFIED:20190518T010231Z
UID:3355-1562920200-1562945400@ftp.harvestforyou.com
SUMMARY:Teepa Snow - Dementia Conference for Professional & Family Caregivers
DESCRIPTION:We are pleased and honored to host Teepa Snow here at Campos Family Vineyards for a Dementia Caregivers Conference for Professional and Family Caregivers.  \nA Taco Bar lunch is available for purchase.  \nThis event will sell out and space is limited!
URL:https://ftp.harvestforyou.com/event/teepa-snow-dementia-conference-for-professional-family-caregivers/
LOCATION:Campos Family Vineyards\, 3501 Byer Road\, Byron\, CA\, 94514\, US
ATTACH;FMTTYPE=image/jpeg:https://ftp.harvestforyou.com/wp-content/uploads/2019/05/3355_image_54225044_10161621476780261_627886191034761216_o.jpg
END:VEVENT
BEGIN:VEVENT
DTSTART;TZID=UTC:20190706T080000
DTEND;TZID=UTC:20190706T120000
DTSTAMP:20260421T162517
CREATED:20190301T120520Z
LAST-MODIFIED:20190301T120520Z
UID:2689-1562400000-1562414400@ftp.harvestforyou.com
SUMMARY:Farmers' Market
DESCRIPTION:We love the Farmer’s Market and love to see all you happy people.  Come in for our World Famous Mimosas!  We open at 9:00 a.m..
URL:https://ftp.harvestforyou.com/event/farmers-market-21/
LOCATION:Brentwood’s Co. Co. County Wine Company\, 633 1st St\, Brentwood\, CA\, 94513\, US
ATTACH;FMTTYPE=image/jpeg:https://ftp.harvestforyou.com/wp-content/uploads/2019/03/2668_image_51236078_10156398017089335_4333931419697938432_n.jpg
END:VEVENT
BEGIN:VEVENT
DTSTART;TZID=UTC:20190629T193000
DTEND;TZID=UTC:20190629T213000
DTSTAMP:20260421T162517
CREATED:20190403T015421Z
LAST-MODIFIED:20190403T015421Z
UID:2843-1561836600-1561843800@ftp.harvestforyou.com
SUMMARY:Evan Thomas Blues Band - Concert in the Vineyards
DESCRIPTION:Evan Thomas has that thang. It’s in his inner soul\, and that feeling which captures a down home essence\, the foot stompin’\, and head – nodding style\, of the old Mississippi delta blues tone. It’s the grit\, in his soulful voice and his cryin’ guitar which sets him apart. Evan Thomas’s classic\, electric blues guitar style\, is influenced by some of the great guitar players of our time. Evan Thomas Blues Revue features some of the best Blues musicians from in and around the greater Bay Area. The Band is experienced and packs a potent performance\, full of style and tone. Something fans of the Blues will not soon forget. \nhttps://evanthomasblues.com/
URL:https://ftp.harvestforyou.com/event/evan-thomas-blues-band-concert-in-the-vineyards/
LOCATION:Hannah Nicole Vineyards & Winery\, 6700 Balfour Rd\, Brentwood\, CA\, 94513\, US
ATTACH;FMTTYPE=image/jpeg:https://ftp.harvestforyou.com/wp-content/uploads/2019/04/2843_image_53905637_2534251269921574_7609539015980613632_n.jpg
END:VEVENT
BEGIN:VEVENT
DTSTART;TZID=UTC:20190629T080000
DTEND;TZID=UTC:20190629T120000
DTSTAMP:20260421T162517
CREATED:20190301T120520Z
LAST-MODIFIED:20190301T120520Z
UID:2690-1561795200-1561809600@ftp.harvestforyou.com
SUMMARY:Farmers' Market
DESCRIPTION:We love the Farmer’s Market and love to see all you happy people.  Come in for our World Famous Mimosas!  We open at 9:00 a.m..
URL:https://ftp.harvestforyou.com/event/farmers-market-22/
LOCATION:Brentwood’s Co. Co. County Wine Company\, 633 1st St\, Brentwood\, CA\, 94513\, US
ATTACH;FMTTYPE=image/jpeg:https://ftp.harvestforyou.com/wp-content/uploads/2019/03/2668_image_51236078_10156398017089335_4333931419697938432_n.jpg
END:VEVENT
BEGIN:VEVENT
DTSTART;TZID=UTC:20190627T180000
DTEND;TZID=UTC:20190627T200000
DTSTAMP:20260421T162517
CREATED:20190208T052713Z
LAST-MODIFIED:20190208T052713Z
UID:2563-1561658400-1561665600@ftp.harvestforyou.com
SUMMARY:Basic Sewing for Teens and Adults
DESCRIPTION:The January 24 class is full\, but you can catch us here as we share the class with all of you. \nWant to learn to sew? This project-based class will help you learn the basics of hand and machine sewing.  \nOur first class is Thursday\, January 24 class is from 6:00 to 8:00 pm. We will be building your Sewing Tool Box. The projects will include making sewing accessories. \nRegistration is required and opens 7 days before class begins. Can’t gent into a class? Follow us  on Facebook and create with us. For ages 12 and up.
URL:https://ftp.harvestforyou.com/event/basic-sewing-for-teens-and-adults-7/
LOCATION:Brentwood Library\, 104 Oak St.\, Brentwood\, CA\, 94513\, US
ATTACH;FMTTYPE=image/jpeg:https://ftp.harvestforyou.com/wp-content/uploads/2019/02/2556_image_49864096_1326769617471962_5081336856839192576_n.jpg
END:VEVENT
BEGIN:VEVENT
DTSTART;TZID=UTC:20190622T080000
DTEND;TZID=UTC:20190622T120000
DTSTAMP:20260421T162517
CREATED:20190301T120521Z
LAST-MODIFIED:20190301T120521Z
UID:2691-1561190400-1561204800@ftp.harvestforyou.com
SUMMARY:Farmers' Market
DESCRIPTION:We love the Farmer’s Market and love to see all you happy people.  Come in for our World Famous Mimosas!  We open at 9:00 a.m..
URL:https://ftp.harvestforyou.com/event/farmers-market-23/
LOCATION:Brentwood’s Co. Co. County Wine Company\, 633 1st St\, Brentwood\, CA\, 94513\, US
ATTACH;FMTTYPE=image/jpeg:https://ftp.harvestforyou.com/wp-content/uploads/2019/03/2668_image_51236078_10156398017089335_4333931419697938432_n.jpg
END:VEVENT
END:VCALENDAR