BEGIN:VCALENDAR
VERSION:2.0
PRODID:-//Harvest Time in Brentwood - ECPv6.15.20//NONSGML v1.0//EN
CALSCALE:GREGORIAN
METHOD:PUBLISH
X-WR-CALNAME:Harvest Time in Brentwood
X-ORIGINAL-URL:https://ftp.harvestforyou.com
X-WR-CALDESC:Events for Harvest Time in Brentwood
REFRESH-INTERVAL;VALUE=DURATION:PT1H
X-Robots-Tag:noindex
X-PUBLISHED-TTL:PT1H
BEGIN:VTIMEZONE
TZID:UTC
BEGIN:STANDARD
TZOFFSETFROM:+0000
TZOFFSETTO:+0000
TZNAME:UTC
DTSTART:20180101T000000
END:STANDARD
END:VTIMEZONE
BEGIN:VEVENT
DTSTART;TZID=UTC:20190720T080000
DTEND;TZID=UTC:20190720T120000
DTSTAMP:20260421T195158
CREATED:20190301T120520Z
LAST-MODIFIED:20190301T120520Z
UID:2687-1563609600-1563624000@ftp.harvestforyou.com
SUMMARY:Farmers' Market
DESCRIPTION:We love the Farmer’s Market and love to see all you happy people.  Come in for our World Famous Mimosas!  We open at 9:00 a.m..
URL:https://ftp.harvestforyou.com/event/farmers-market-19/
LOCATION:Brentwood’s Co. Co. County Wine Company\, 633 1st St\, Brentwood\, CA\, 94513\, US
ATTACH;FMTTYPE=image/jpeg:https://ftp.harvestforyou.com/wp-content/uploads/2019/03/2668_image_51236078_10156398017089335_4333931419697938432_n.jpg
END:VEVENT
BEGIN:VEVENT
DTSTART;TZID=UTC:20190716T173000
DTEND;TZID=UTC:20190716T193000
DTSTAMP:20260421T195158
CREATED:20190717T061849Z
LAST-MODIFIED:20190717T061849Z
UID:3944-1563298200-1563305400@ftp.harvestforyou.com
SUMMARY:Tasting Tuesday featuring Bloomfield Vineyards
DESCRIPTION:Join us as Winemaker Becky Bloomfield from Bloomfield Vineyards will pour complimentary samples of her award winning wines.  All wines sampled will be available for purchase by the glass & bottles purchased will be\ndiscounted $10 to enjoy here or to take home.
URL:https://ftp.harvestforyou.com/event/tasting-tuesday-featuring-bloomfield-vineyards/
LOCATION:Zephyr Grill & Bar Brentwood\, 613 1st St\, Brentwood\, CA\, 94513\, US
ATTACH;FMTTYPE=image/jpeg:https://ftp.harvestforyou.com/wp-content/uploads/2019/07/3944_image_66524731_1309858312513497_969482072710184960_o.jpg
END:VEVENT
BEGIN:VEVENT
DTSTART;TZID=UTC:20190713T180000
DTEND;TZID=UTC:20190713T220000
DTSTAMP:20260421T195158
CREATED:20190611T050750Z
LAST-MODIFIED:20190611T050750Z
UID:3746-1563040800-1563055200@ftp.harvestforyou.com
SUMMARY:Country Line Dancing Night!
DESCRIPTION:Join us for a beautiful hot summer night under the market lights and dance your boots off! We will have a DJ playing all of your favorite Country Music Songs PLUS two Line Dancing Instructors to teach you the steps to the dances you need help with!  \nFood Truck available for purchase.  \nThis event is 21+ please! Doors Open at 6:00pm. \nNO OUTSIDE FOOD OR ALCOHOL PERMITTED.  \nThis event will be OUTDOORS. Seating will be available.  \nNo Refund given for this event.
URL:https://ftp.harvestforyou.com/event/country-line-dancing-night-2/
LOCATION:Campos Family Vineyards\, 3501 Byer Road\, Byron\, CA\, 94514\, US
ATTACH;FMTTYPE=image/jpeg:https://ftp.harvestforyou.com/wp-content/uploads/2019/06/3746_image_59697299_10161822543295261_9008205033002500096_o.jpg
END:VEVENT
BEGIN:VEVENT
DTSTART;TZID=UTC:20190713T080000
DTEND;TZID=UTC:20190713T120000
DTSTAMP:20260421T195158
CREATED:20190301T120520Z
LAST-MODIFIED:20190301T120520Z
UID:2688-1563004800-1563019200@ftp.harvestforyou.com
SUMMARY:Farmers' Market
DESCRIPTION:We love the Farmer’s Market and love to see all you happy people.  Come in for our World Famous Mimosas!  We open at 9:00 a.m..
URL:https://ftp.harvestforyou.com/event/farmers-market-20/
LOCATION:Brentwood’s Co. Co. County Wine Company\, 633 1st St\, Brentwood\, CA\, 94513\, US
ATTACH;FMTTYPE=image/jpeg:https://ftp.harvestforyou.com/wp-content/uploads/2019/03/2668_image_51236078_10156398017089335_4333931419697938432_n.jpg
END:VEVENT
BEGIN:VEVENT
DTSTART;TZID=UTC:20190712T083000
DTEND;TZID=UTC:20190712T153000
DTSTAMP:20260421T195158
CREATED:20190518T010231Z
LAST-MODIFIED:20190518T010231Z
UID:3355-1562920200-1562945400@ftp.harvestforyou.com
SUMMARY:Teepa Snow - Dementia Conference for Professional & Family Caregivers
DESCRIPTION:We are pleased and honored to host Teepa Snow here at Campos Family Vineyards for a Dementia Caregivers Conference for Professional and Family Caregivers.  \nA Taco Bar lunch is available for purchase.  \nThis event will sell out and space is limited!
URL:https://ftp.harvestforyou.com/event/teepa-snow-dementia-conference-for-professional-family-caregivers/
LOCATION:Campos Family Vineyards\, 3501 Byer Road\, Byron\, CA\, 94514\, US
ATTACH;FMTTYPE=image/jpeg:https://ftp.harvestforyou.com/wp-content/uploads/2019/05/3355_image_54225044_10161621476780261_627886191034761216_o.jpg
END:VEVENT
BEGIN:VEVENT
DTSTART;TZID=UTC:20190706T080000
DTEND;TZID=UTC:20190706T120000
DTSTAMP:20260421T195158
CREATED:20190301T120520Z
LAST-MODIFIED:20190301T120520Z
UID:2689-1562400000-1562414400@ftp.harvestforyou.com
SUMMARY:Farmers' Market
DESCRIPTION:We love the Farmer’s Market and love to see all you happy people.  Come in for our World Famous Mimosas!  We open at 9:00 a.m..
URL:https://ftp.harvestforyou.com/event/farmers-market-21/
LOCATION:Brentwood’s Co. Co. County Wine Company\, 633 1st St\, Brentwood\, CA\, 94513\, US
ATTACH;FMTTYPE=image/jpeg:https://ftp.harvestforyou.com/wp-content/uploads/2019/03/2668_image_51236078_10156398017089335_4333931419697938432_n.jpg
END:VEVENT
BEGIN:VEVENT
DTSTART;TZID=UTC:20190629T193000
DTEND;TZID=UTC:20190629T213000
DTSTAMP:20260421T195158
CREATED:20190403T015421Z
LAST-MODIFIED:20190403T015421Z
UID:2843-1561836600-1561843800@ftp.harvestforyou.com
SUMMARY:Evan Thomas Blues Band - Concert in the Vineyards
DESCRIPTION:Evan Thomas has that thang. It’s in his inner soul\, and that feeling which captures a down home essence\, the foot stompin’\, and head – nodding style\, of the old Mississippi delta blues tone. It’s the grit\, in his soulful voice and his cryin’ guitar which sets him apart. Evan Thomas’s classic\, electric blues guitar style\, is influenced by some of the great guitar players of our time. Evan Thomas Blues Revue features some of the best Blues musicians from in and around the greater Bay Area. The Band is experienced and packs a potent performance\, full of style and tone. Something fans of the Blues will not soon forget. \nhttps://evanthomasblues.com/
URL:https://ftp.harvestforyou.com/event/evan-thomas-blues-band-concert-in-the-vineyards/
LOCATION:Hannah Nicole Vineyards & Winery\, 6700 Balfour Rd\, Brentwood\, CA\, 94513\, US
ATTACH;FMTTYPE=image/jpeg:https://ftp.harvestforyou.com/wp-content/uploads/2019/04/2843_image_53905637_2534251269921574_7609539015980613632_n.jpg
END:VEVENT
BEGIN:VEVENT
DTSTART;TZID=UTC:20190629T080000
DTEND;TZID=UTC:20190629T120000
DTSTAMP:20260421T195158
CREATED:20190301T120520Z
LAST-MODIFIED:20190301T120520Z
UID:2690-1561795200-1561809600@ftp.harvestforyou.com
SUMMARY:Farmers' Market
DESCRIPTION:We love the Farmer’s Market and love to see all you happy people.  Come in for our World Famous Mimosas!  We open at 9:00 a.m..
URL:https://ftp.harvestforyou.com/event/farmers-market-22/
LOCATION:Brentwood’s Co. Co. County Wine Company\, 633 1st St\, Brentwood\, CA\, 94513\, US
ATTACH;FMTTYPE=image/jpeg:https://ftp.harvestforyou.com/wp-content/uploads/2019/03/2668_image_51236078_10156398017089335_4333931419697938432_n.jpg
END:VEVENT
BEGIN:VEVENT
DTSTART;TZID=UTC:20190627T180000
DTEND;TZID=UTC:20190627T200000
DTSTAMP:20260421T195158
CREATED:20190208T052713Z
LAST-MODIFIED:20190208T052713Z
UID:2563-1561658400-1561665600@ftp.harvestforyou.com
SUMMARY:Basic Sewing for Teens and Adults
DESCRIPTION:The January 24 class is full\, but you can catch us here as we share the class with all of you. \nWant to learn to sew? This project-based class will help you learn the basics of hand and machine sewing.  \nOur first class is Thursday\, January 24 class is from 6:00 to 8:00 pm. We will be building your Sewing Tool Box. The projects will include making sewing accessories. \nRegistration is required and opens 7 days before class begins. Can’t gent into a class? Follow us  on Facebook and create with us. For ages 12 and up.
URL:https://ftp.harvestforyou.com/event/basic-sewing-for-teens-and-adults-7/
LOCATION:Brentwood Library\, 104 Oak St.\, Brentwood\, CA\, 94513\, US
ATTACH;FMTTYPE=image/jpeg:https://ftp.harvestforyou.com/wp-content/uploads/2019/02/2556_image_49864096_1326769617471962_5081336856839192576_n.jpg
END:VEVENT
BEGIN:VEVENT
DTSTART;TZID=UTC:20190622T080000
DTEND;TZID=UTC:20190622T120000
DTSTAMP:20260421T195158
CREATED:20190301T120521Z
LAST-MODIFIED:20190301T120521Z
UID:2691-1561190400-1561204800@ftp.harvestforyou.com
SUMMARY:Farmers' Market
DESCRIPTION:We love the Farmer’s Market and love to see all you happy people.  Come in for our World Famous Mimosas!  We open at 9:00 a.m..
URL:https://ftp.harvestforyou.com/event/farmers-market-23/
LOCATION:Brentwood’s Co. Co. County Wine Company\, 633 1st St\, Brentwood\, CA\, 94513\, US
ATTACH;FMTTYPE=image/jpeg:https://ftp.harvestforyou.com/wp-content/uploads/2019/03/2668_image_51236078_10156398017089335_4333931419697938432_n.jpg
END:VEVENT
BEGIN:VEVENT
DTSTART;TZID=UTC:20190615T180000
DTEND;TZID=UTC:20190615T220000
DTSTAMP:20260421T195158
CREATED:20190403T013335Z
LAST-MODIFIED:20190403T013335Z
UID:2800-1560621600-1560636000@ftp.harvestforyou.com
SUMMARY:Forejour - Tribute to Foreigner & Journey - Summer Concert
DESCRIPTION:Join us on a warm summer night on the lawn for an amazing tribute to Journey and Foreigner!  \nGates open at 6pm sharp!  \nBring a low back chair or a lawn blanket to enjoy the show! Seating is first come first serve!  \nPicnic tables are limited and available for reservation.  \nFood trucks will be available for purchase – (Check back for updated list) \n~Soleil Wood Fired Pizza \n~Guys Tri Tip BBQ \n-Ritas Italian Ice Cream \nBeer & Wine will be available for purchase!  \nThere will be a $10 parking fee collected upon entry. Parking fee is waived for Wine Club Members.  \nThis event is 21+ ONLY. No outside alcohol will be permitted on the property. All bags and coolers will be searched. There will be NO REFUNDS given for this event.
URL:https://ftp.harvestforyou.com/event/forejour-tribute-to-foreigner-journey-summer-concert/
LOCATION:Campos Family Vineyards\, 3501 Byer Road\, Byron\, CA\, 94514\, US
ATTACH;FMTTYPE=image/jpeg:https://ftp.harvestforyou.com/wp-content/uploads/2019/04/2800_image_54514210_10161627370950261_5247713723698642944_o.jpg
END:VEVENT
BEGIN:VEVENT
DTSTART;TZID=UTC:20190615T080000
DTEND;TZID=UTC:20190615T120000
DTSTAMP:20260421T195158
CREATED:20190301T120521Z
LAST-MODIFIED:20190301T120521Z
UID:2692-1560585600-1560600000@ftp.harvestforyou.com
SUMMARY:Farmers' Market
DESCRIPTION:We love the Farmer’s Market and love to see all you happy people.  Come in for our World Famous Mimosas!  We open at 9:00 a.m..
URL:https://ftp.harvestforyou.com/event/farmers-market-24/
LOCATION:Brentwood’s Co. Co. County Wine Company\, 633 1st St\, Brentwood\, CA\, 94513\, US
ATTACH;FMTTYPE=image/jpeg:https://ftp.harvestforyou.com/wp-content/uploads/2019/03/2668_image_51236078_10156398017089335_4333931419697938432_n.jpg
END:VEVENT
BEGIN:VEVENT
DTSTART;TZID=UTC:20190608T080000
DTEND;TZID=UTC:20190608T120000
DTSTAMP:20260421T195158
CREATED:20190301T120521Z
LAST-MODIFIED:20190301T120521Z
UID:2693-1559980800-1559995200@ftp.harvestforyou.com
SUMMARY:Farmers' Market
DESCRIPTION:We love the Farmer’s Market and love to see all you happy people.  Come in for our World Famous Mimosas!  We open at 9:00 a.m..
URL:https://ftp.harvestforyou.com/event/farmers-market-25/
LOCATION:Brentwood’s Co. Co. County Wine Company\, 633 1st St\, Brentwood\, CA\, 94513\, US
ATTACH;FMTTYPE=image/jpeg:https://ftp.harvestforyou.com/wp-content/uploads/2019/03/2668_image_51236078_10156398017089335_4333931419697938432_n.jpg
END:VEVENT
BEGIN:VEVENT
DTSTART;TZID=UTC:20190601T190000
DTEND;TZID=UTC:20190601T190000
DTSTAMP:20260421T195158
CREATED:20190403T020619Z
LAST-MODIFIED:20190403T020619Z
UID:2860-1559415600-1559415600@ftp.harvestforyou.com
SUMMARY:Antioch High School Class of 1999 - 20 year reunion
DESCRIPTION:Hello everyone! We are officially booked for June 1st at Hannah Nicole Vineyards & Winery! So exciting! Tickets below!
URL:https://ftp.harvestforyou.com/event/antioch-high-school-class-of-1999-20-year-reunion/
LOCATION:Hannah Nicole Vineyards & Winery\, 6700 Balfour Rd\, Brentwood\, CA\, 94513\, US
ATTACH;FMTTYPE=image/jpeg:https://ftp.harvestforyou.com/wp-content/uploads/2019/04/2860_image_52151417_1144801979035532_2894587355098775552_o.jpg
END:VEVENT
BEGIN:VEVENT
DTSTART;TZID=UTC:20190601T080000
DTEND;TZID=UTC:20190601T120000
DTSTAMP:20260421T195158
CREATED:20190301T120521Z
LAST-MODIFIED:20190301T120521Z
UID:2694-1559376000-1559390400@ftp.harvestforyou.com
SUMMARY:Farmers' Market
DESCRIPTION:We love the Farmer’s Market and love to see all you happy people.  Come in for our World Famous Mimosas!  We open at 9:00 a.m..
URL:https://ftp.harvestforyou.com/event/farmers-market-26/
LOCATION:Brentwood’s Co. Co. County Wine Company\, 633 1st St\, Brentwood\, CA\, 94513\, US
ATTACH;FMTTYPE=image/jpeg:https://ftp.harvestforyou.com/wp-content/uploads/2019/03/2668_image_51236078_10156398017089335_4333931419697938432_n.jpg
END:VEVENT
BEGIN:VEVENT
DTSTART;TZID=UTC:20190525T080000
DTEND;TZID=UTC:20190525T120000
DTSTAMP:20260421T195158
CREATED:20190301T120521Z
LAST-MODIFIED:20190301T120521Z
UID:2695-1558771200-1558785600@ftp.harvestforyou.com
SUMMARY:Farmers' Market
DESCRIPTION:We love the Farmer’s Market and love to see all you happy people.  Come in for our World Famous Mimosas!  We open at 9:00 a.m..
URL:https://ftp.harvestforyou.com/event/farmers-market-27/
LOCATION:Brentwood’s Co. Co. County Wine Company\, 633 1st St\, Brentwood\, CA\, 94513\, US
ATTACH;FMTTYPE=image/jpeg:https://ftp.harvestforyou.com/wp-content/uploads/2019/03/2668_image_51236078_10156398017089335_4333931419697938432_n.jpg
END:VEVENT
BEGIN:VEVENT
DTSTART;TZID=UTC:20190524T190000
DTEND;TZID=UTC:20190524T220000
DTSTAMP:20260421T195158
CREATED:20190403T015005Z
LAST-MODIFIED:20190403T015005Z
UID:2834-1558724400-1558735200@ftp.harvestforyou.com
SUMMARY:Spencer James Solo at Co Co's
DESCRIPTION:So glad to have been playing here for years. Blues\, Rock’n’Roll\, great wine\, and dancing in a cozy wine bar. Always a good time.
URL:https://ftp.harvestforyou.com/event/spencer-james-solo-at-co-cos/
LOCATION:Brentwood’s Co. Co. County Wine Company\, 633 1st St\, Brentwood\, CA\, 94513\, US
ATTACH;FMTTYPE=image/jpeg:https://ftp.harvestforyou.com/wp-content/uploads/2019/04/2834_image_51751374_2243953899260274_8502901714016272384_o.jpg
END:VEVENT
BEGIN:VEVENT
DTSTART;TZID=UTC:20190523T180000
DTEND;TZID=UTC:20190523T200000
DTSTAMP:20260421T195158
CREATED:20190208T052713Z
LAST-MODIFIED:20190208T052713Z
UID:2564-1558634400-1558641600@ftp.harvestforyou.com
SUMMARY:Basic Sewing for Teens and Adults
DESCRIPTION:The January 24 class is full\, but you can catch us here as we share the class with all of you. \nWant to learn to sew? This project-based class will help you learn the basics of hand and machine sewing.  \nOur first class is Thursday\, January 24 class is from 6:00 to 8:00 pm. We will be building your Sewing Tool Box. The projects will include making sewing accessories. \nRegistration is required and opens 7 days before class begins. Can’t gent into a class? Follow us  on Facebook and create with us. For ages 12 and up.
URL:https://ftp.harvestforyou.com/event/basic-sewing-for-teens-and-adults-8/
LOCATION:Brentwood Library\, 104 Oak St.\, Brentwood\, CA\, 94513\, US
ATTACH;FMTTYPE=image/jpeg:https://ftp.harvestforyou.com/wp-content/uploads/2019/02/2556_image_49864096_1326769617471962_5081336856839192576_n.jpg
END:VEVENT
BEGIN:VEVENT
DTSTART;TZID=UTC:20190519T100000
DTEND;TZID=UTC:20190519T120000
DTSTAMP:20260421T195158
CREATED:20190425T230004Z
LAST-MODIFIED:20190425T230004Z
UID:3092-1558260000-1558267200@ftp.harvestforyou.com
SUMMARY:Beekeeping 101B Sunday May 19 (AM)- Hive check on  installed bee hives
DESCRIPTION:Beekeeping 101-B\,  Beginners welcome.  No experience necessary.  Identify bees\, types\, parts of the hive\, live  hive check demonstration \nWe will be checking he hives that we installed packages of Italian Bees into the hive boxes from mid April.  This as all classes are weather permitting.  If it is raining or below 60 degrees or above 90 degrees\, we will cancel the class and return funds to you if this is the case.  The class is held outside\, please dress appropriately with close toed boots or sneakers\, jeans/pants\, layer clothing (long sleeve and short sleeve).  We will supply bee suit if you do not have your own.  Wear light colored clothing (bees do not like black)Beekeeping 101 will cover: ABOUT BEES and hive checksThe Anatomy of a BeeQueen\, Worker and Drone Behavior – look for different types of cells\, honey\, eggs\, pollen\, queen cells\, drone cellsHow to check the hive Beekeeping Equipment and Hive Assembly How to Manage Bees and hive maintenanceDiseases and how to identifyHive demonstration (live hive demonstration weather permitting)
URL:https://ftp.harvestforyou.com/event/beekeeping-101b-sunday-may-19-am-hive-check-on-installed-bee-hives/
LOCATION:The Loose Rooster Ranch\, 3280 Bixler Road\, Brentwood\, CA\, 94513\, US
ATTACH;FMTTYPE=image/jpeg:https://ftp.harvestforyou.com/wp-content/uploads/2019/04/3092_image_57343455_10161706927225261_5710667557044748288_o.jpg
END:VEVENT
BEGIN:VEVENT
DTSTART;TZID=UTC:20190518T180000
DTEND;TZID=UTC:20190518T220000
DTSTAMP:20260421T195158
CREATED:20190403T015339Z
LAST-MODIFIED:20190403T015339Z
UID:2840-1558202400-1558216800@ftp.harvestforyou.com
SUMMARY:Brentwood Concert Band 1st Annual Music & Morsels
DESCRIPTION:Brentwood Concert Band Presents the 1st Annual Music * Morsels Benefit!  Please join us for a night of toe-tapping music\, tantalizing farm-to-table food\, and fun for all!  Special early bird pricing until April 18\, after that ticket prices increase\, so register quickly as space is limited!
URL:https://ftp.harvestforyou.com/event/brentwood-concert-band-1st-annual-music-morsels/
LOCATION:Community Farm Kitchen\, 8091 Balfour Rd\, Brentwood\, CA\, 94513\, US
ATTACH;FMTTYPE=image/jpeg:https://ftp.harvestforyou.com/wp-content/uploads/2019/04/2840_image_53665498_2214369411917351_4450164590621229056_o.jpg
END:VEVENT
BEGIN:VEVENT
DTSTART;TZID=UTC:20190518T080000
DTEND;TZID=UTC:20190518T120000
DTSTAMP:20260421T195158
CREATED:20190301T120521Z
LAST-MODIFIED:20190301T120521Z
UID:2696-1558166400-1558180800@ftp.harvestforyou.com
SUMMARY:Farmers' Market
DESCRIPTION:We love the Farmer’s Market and love to see all you happy people.  Come in for our World Famous Mimosas!  We open at 9:00 a.m..
URL:https://ftp.harvestforyou.com/event/farmers-market-28/
LOCATION:Brentwood’s Co. Co. County Wine Company\, 633 1st St\, Brentwood\, CA\, 94513\, US
ATTACH;FMTTYPE=image/jpeg:https://ftp.harvestforyou.com/wp-content/uploads/2019/03/2668_image_51236078_10156398017089335_4333931419697938432_n.jpg
END:VEVENT
BEGIN:VEVENT
DTSTART;TZID=UTC:20190516T160000
DTEND;TZID=UTC:20190516T180000
DTSTAMP:20260421T195158
CREATED:20190403T020923Z
LAST-MODIFIED:20190403T020923Z
UID:2866-1558022400-1558029600@ftp.harvestforyou.com
SUMMARY:CCRA E.O.Y Party
DESCRIPTION:Come to celebrate our end of the year party! There will be free appetizers.
URL:https://ftp.harvestforyou.com/event/ccra-e-o-y-party/
LOCATION:Brentwood’s Co. Co. County Wine Company\, 633 1st St\, Brentwood\, CA\, 94513\, US
ATTACH;FMTTYPE=image/jpeg:https://ftp.harvestforyou.com/wp-content/uploads/2019/04/2866_image_41680186_547804885653996_4325629793375617024_o.jpg
END:VEVENT
BEGIN:VEVENT
DTSTART;TZID=UTC:20190512T114500
DTEND;TZID=UTC:20190512T144500
DTSTAMP:20260421T195158
CREATED:20190315T010752Z
LAST-MODIFIED:20190315T010752Z
UID:2757-1557661500-1557672300@ftp.harvestforyou.com
SUMMARY:Mother's Day Paint in the Vineyards
DESCRIPTION:We invite Starry Night Studios back with us on Mother’s Day! \nWe are proud to offer our Mother’s Day paint party events for the 3rd year in a row at the beautiful Hannah Nicole Vineyard/Winery. This event always sells out so don’t delay when getting your tickets. We will offer TWO separate event start times. Both events will paint the same painting\, “Chanel\, No. 5” on a 16×20 canvas. \nEvent #1 is from 12-2pm (arrive by 11:45am for check in) \nEvent #2 is from 3-5pm (arrive by 2:30 for check in) \nThis event happens RAIN OR SHINE (or wind as we have had in the past)! \nThere is a NO REFUNDS policy for this event. \nDue to the size of this event we cannot save seats. If you want to make sure you are sitting with your party you should arrive early to save your seats. \nAll materials/instructions will be provided. \nhttps://www.starrynitestudios.com/event/mothers-day-at-hannah-nicole-vineyard/
URL:https://ftp.harvestforyou.com/event/mothers-day-paint-in-the-vineyards/
LOCATION:Hannah Nicole Vineyards & Winery\, 6700 Balfour Rd\, Brentwood\, CA\, 94513\, US
ATTACH;FMTTYPE=image/jpeg:https://ftp.harvestforyou.com/wp-content/uploads/2019/03/2757_image_53803591_2532780836735284_4717583367732723712_n.jpg
END:VEVENT
BEGIN:VEVENT
DTSTART;TZID=UTC:20190512T090000
DTEND;TZID=UTC:20190512T140000
DTSTAMP:20260421T195158
CREATED:20190425T225857Z
LAST-MODIFIED:20190425T225857Z
UID:3089-1557651600-1557669600@ftp.harvestforyou.com
SUMMARY:Mother's Day Brunch Buffet at Zephyr Grill & Bar
DESCRIPTION:TREAT MOM ON HER SPECIAL DAY! Join us Sunday\, May 12th for Mother’s Day Brunch Buffet Special.  \n*Brunch Includes\n– Complimentary Mimosas\, Sparkling Cider or Orange Juice\n– Unlimited fountain sodas\, coffee & hot tea available upon request\n*$5 Bloody Marys & Screwdrivers  \n$48 Per Person\n$15 – Kids ages 4-12\n9AM – 2PM \nReservations are recommended: http://zephyrgrill.info/moms_brunch
URL:https://ftp.harvestforyou.com/event/mothers-day-brunch-buffet-at-zephyr-grill-bar/
LOCATION:Zephyr Grill & Bar Brentwood\, 613 1st St\, Brentwood\, CA\, 94513\, US
ATTACH;FMTTYPE=image/jpeg:https://ftp.harvestforyou.com/wp-content/uploads/2019/04/3089_image_57532968_1246731925492803_3173729984179077120_n.jpg
END:VEVENT
BEGIN:VEVENT
DTSTART;TZID=UTC:20190511T200000
DTEND;TZID=UTC:20190511T200000
DTSTAMP:20260421T195158
CREATED:20190403T021416Z
LAST-MODIFIED:20190403T021416Z
UID:2869-1557604800-1557604800@ftp.harvestforyou.com
SUMMARY:Brentwood's Contra Costa Wine Co.
DESCRIPTION:Come see us perform at one of our favorite spots\, Brentwood’s Contra Costa Wine Co.! \nLet us know if you’re attending! \n Visit their website at http://www.cocowineco.com/ \nAge 21 and up\nFree Admission
URL:https://ftp.harvestforyou.com/event/brentwoods-contra-costa-wine-co/
LOCATION:Brentwood’s Co. Co. County Wine Company\, 633 1st St\, Brentwood\, CA\, 94513\, US
ATTACH;FMTTYPE=image/jpeg:https://ftp.harvestforyou.com/wp-content/uploads/2019/04/2869_image_41943873_1903517706351065_2832583897248694272_o.jpg
END:VEVENT
BEGIN:VEVENT
DTSTART;TZID=UTC:20190511T180000
DTEND;TZID=UTC:20190511T220000
DTSTAMP:20260421T195158
CREATED:20190315T010358Z
LAST-MODIFIED:20190315T010358Z
UID:2751-1557597600-1557612000@ftp.harvestforyou.com
SUMMARY:Winemaker's Dinner at Tess's Community Farm Kitchen
DESCRIPTION:We are super excited to announce that Bloomfield Vineyards will be having a Winemaker’s Dinner on Saturday May 11th\, 2019.  No plans for Mother’s Day?  Make one with us!  Details to follow
URL:https://ftp.harvestforyou.com/event/winemakers-dinner-at-tesss-community-farm-kitchen/
LOCATION:Community Farm Kitchen\, 8091 Balfour Rd\, Brentwood\, CA\, 94513\, US
ATTACH;FMTTYPE=image/jpeg:https://ftp.harvestforyou.com/wp-content/uploads/2019/03/2751_image_53330590_10157205315922392_828930522079035392_o.jpg
END:VEVENT
BEGIN:VEVENT
DTSTART;TZID=UTC:20190511T170000
DTEND;TZID=UTC:20190511T203000
DTSTAMP:20260421T195158
CREATED:20190403T013816Z
LAST-MODIFIED:20190403T013816Z
UID:2806-1557594000-1557606600@ftp.harvestforyou.com
SUMMARY:Wine + Dine Bloomfield Vineyards S&Q Dinner
DESCRIPTION:Join us at Tess’ as we feature guest Winemaker Becky Bloomfield of Bloomfield Vineyards and bring in special S&Q Guest Chef Archie Smith from Archie’s S&Q for a fun and unique pairing dinner!  Dinner will be served Tapas style and created in a fun S&Q style!  Menu to be announced soon!  Pre-registration is required. ** If you have a 3 for dinner special you will need to call to reserve your spot.
URL:https://ftp.harvestforyou.com/event/wine-dine-bloomfield-vineyards-sq-dinner/
LOCATION:Community Farm Kitchen\, 8091 Balfour Rd\, Brentwood\, CA\, 94513\, US
ATTACH;FMTTYPE=image/jpeg:https://ftp.harvestforyou.com/wp-content/uploads/2019/04/2806_image_53160386_2203407536346872_991297474326953984_n.jpg
END:VEVENT
BEGIN:VEVENT
DTSTART;TZID=UTC:20190511T120000
DTEND;TZID=UTC:20190511T160000
DTSTAMP:20260421T195158
CREATED:20190425T225757Z
LAST-MODIFIED:20190425T225757Z
UID:3086-1557576000-1557590400@ftp.harvestforyou.com
SUMMARY:Mother's Day Fair
DESCRIPTION:Local artisan vendors selling their home crafted products for unique gifts.  Booth displays in The Urban Edge Farm Store parking lot or inside the store if it is raining.  Promoting the buy local movement. Support local farmers & vendors.\nRain or shine event.
URL:https://ftp.harvestforyou.com/event/mothers-day-fair/
LOCATION:The Urban Edge Farm Store\, 2017 walnut blvd\, Brentwood\, CA\, 94513\, US
ATTACH;FMTTYPE=image/jpeg:https://ftp.harvestforyou.com/wp-content/uploads/2019/04/3086_image_55517435_321340178575592_6491415332110991360_o.jpg
END:VEVENT
BEGIN:VEVENT
DTSTART;TZID=UTC:20190511T120000
DTEND;TZID=UTC:20190511T160000
DTSTAMP:20260421T195158
CREATED:20190403T015901Z
LAST-MODIFIED:20190403T015901Z
UID:2854-1557576000-1557590400@ftp.harvestforyou.com
SUMMARY:May 11 Mother's Day Boutique
DESCRIPTION:Also mark your calendars and come see us Saturday May 11th at Urban Edge Farm store at 2017 Walnut Blvd\, Brentwood\, CA 94513 from 12pm-4pm perfect to come look for some amazing mothers day gifts! My mom will be there as well selling her beautiful resin art and jewelry! There will also be several other vendors as well as the amazing farm store that has some wonderful goodies too!
URL:https://ftp.harvestforyou.com/event/may-11-mothers-day-boutique/
LOCATION:The Urban Edge Farm Store\, 2017 walnut blvd\, Brentwood\, CA\, 94513\, US
ATTACH;FMTTYPE=image/jpeg:https://ftp.harvestforyou.com/wp-content/uploads/2019/04/2854_image_54435181_324326921774280_8866976286287855616_o.jpg
END:VEVENT
BEGIN:VEVENT
DTSTART;TZID=UTC:20190511T093000
DTEND;TZID=UTC:20190511T170000
DTSTAMP:20260421T195158
CREATED:20190223T092549Z
LAST-MODIFIED:20190223T092549Z
UID:2654-1557567000-1557594000@ftp.harvestforyou.com
SUMMARY:Mother's Day Rose 5k - Fun Run
DESCRIPTION:JOIN US FOR OUR INAUGURAL MOTHER’S DAY FUN RUN!!  \nWe have an incredible day planned for you this Mother’s Day Weekend!! We have put together a FUN RUN! Grab your sneakers\, dress in pink and join us for 3.1 miles around the beautiful Campos Family Vineyards property!  \nWe will have a DJ mcing the events and playing upbeat jams to get your blood flowing followed by an afternoon of LIVE MUSIC! \nThis race is open to anyone over the age of 21 years old!  \nRacers will receive:  \n~A pre-race Mimosa \n~A Rose 5k tank top or tee shirt \n~A Souvenier Wine Glass \n~A Participation Medal \n~2 post race Rose Tastings \n~A Raffle Ticket to win some amazing prizes by local vendors \nRun Registration will begin at 9:30am – Run Starts at 10:30am – Afternoon Festivities From 12-5pm.  \nAll Runners will need to be registered no later than April 13th – Please reserve your Tank Top or Tee Shirt size with your runner registration as well as spectator tickets for the family to come and support you!  \nSponsorship Opportunities are Available! Please contact Angela Walker at angwalker21@gmail.com or our office at 925-308-7963 to inquire!  \nAfternoon Fun will include a LIVE BAND – Food Trucks – Last Minute Gifts for Mom – Wine – Beer – and a TON OF FUN! Check back often for updates!
URL:https://ftp.harvestforyou.com/event/mothers-day-rose-5k-fun-run/
LOCATION:Campos Family Vineyards\, 3501 Byer Road\, Byron\, CA\, 94514\, US
ATTACH;FMTTYPE=image/jpeg:https://ftp.harvestforyou.com/wp-content/uploads/2019/02/2654_image_51666072_10161476338210261_7143003991658463232_o.jpg
END:VEVENT
END:VCALENDAR