BEGIN:VCALENDAR
VERSION:2.0
PRODID:-//Harvest Time in Brentwood - ECPv6.15.20//NONSGML v1.0//EN
CALSCALE:GREGORIAN
METHOD:PUBLISH
X-ORIGINAL-URL:https://ftp.harvestforyou.com
X-WR-CALDESC:Events for Harvest Time in Brentwood
REFRESH-INTERVAL;VALUE=DURATION:PT1H
X-Robots-Tag:noindex
X-PUBLISHED-TTL:PT1H
BEGIN:VTIMEZONE
TZID:UTC
BEGIN:STANDARD
TZOFFSETFROM:+0000
TZOFFSETTO:+0000
TZNAME:UTC
DTSTART:20180101T000000
END:STANDARD
END:VTIMEZONE
BEGIN:VEVENT
DTSTART;TZID=UTC:20190302T080000
DTEND;TZID=UTC:20190302T120000
DTSTAMP:20260422T112451
CREATED:20190301T120522Z
LAST-MODIFIED:20190301T120522Z
UID:2707-1551513600-1551528000@ftp.harvestforyou.com
SUMMARY:Farmers' Market
DESCRIPTION:We love the Farmer’s Market and love to see all you happy people.  Come in for our World Famous Mimosas!  We open at 9:00 a.m..
URL:https://ftp.harvestforyou.com/event/farmers-market-39/
LOCATION:Brentwood’s Co. Co. County Wine Company\, 633 1st St\, Brentwood\, CA\, 94513\, US
ATTACH;FMTTYPE=image/jpeg:https://ftp.harvestforyou.com/wp-content/uploads/2019/03/2668_image_51236078_10156398017089335_4333931419697938432_n.jpg
END:VEVENT
BEGIN:VEVENT
DTSTART;TZID=UTC:20190301T190000
DTEND;TZID=UTC:20190301T220000
DTSTAMP:20260422T112451
CREATED:20190208T042215Z
LAST-MODIFIED:20190208T052311Z
UID:2527-1551466800-1551477600@ftp.harvestforyou.com
SUMMARY:Country Line Dancing Night
DESCRIPTION:Join us for a boot scootin boogie night!! We will have a DJ playing all of your favorite Country Music Songs PLUS two Line Dancing Instructors to teach you the steps to the dances you need help with!  \nFood Truck available for purchase.  \nThis event is 21+ please! Doors Open at 6:30pm \nNO OUTSIDE FOOD OR ALCOHOL PERMITTED.
URL:https://ftp.harvestforyou.com/event/country-line-dancing-night/
LOCATION:Campos Family Vineyards\, 3501 Byer Road\, Byron\, CA\, 94514\, US
ATTACH;FMTTYPE=image/jpeg:https://ftp.harvestforyou.com/wp-content/uploads/2019/02/2527_image_48408071_10161291550945261_7621934630899286016_o.jpg
END:VEVENT
BEGIN:VEVENT
DTSTART;TZID=UTC:20190301T160000
DTEND;TZID=UTC:20190301T190000
DTSTAMP:20260422T112451
CREATED:20190208T052438Z
LAST-MODIFIED:20190208T052438Z
UID:2548-1551456000-1551466800@ftp.harvestforyou.com
SUMMARY:Friday Wine Down with Margaret Niles!
DESCRIPTION:When it comes to Fridays\, Petersen Vineyards is the place to go Wine Down\, especially when you are treated with this talented lady and artist. Give it up for Margaret Niles!
URL:https://ftp.harvestforyou.com/event/friday-wine-down-with-margaret-niles/
LOCATION:Petersen Vineyards\, 101 Blaine Lane\, Knightsen\, CA\, 94548\, US
ATTACH;FMTTYPE=image/jpeg:https://ftp.harvestforyou.com/wp-content/uploads/2019/02/2548_image_49587795_819121365095619_6020743021627179008_n.jpg
END:VEVENT
BEGIN:VEVENT
DTSTART;TZID=UTC:20190228T180000
DTEND;TZID=UTC:20190228T200000
DTSTAMP:20260422T112451
CREATED:20190208T052713Z
LAST-MODIFIED:20190208T052713Z
UID:2567-1551376800-1551384000@ftp.harvestforyou.com
SUMMARY:Basic Sewing for Teens and Adults
DESCRIPTION:The January 24 class is full\, but you can catch us here as we share the class with all of you. \nWant to learn to sew? This project-based class will help you learn the basics of hand and machine sewing.  \nOur first class is Thursday\, January 24 class is from 6:00 to 8:00 pm. We will be building your Sewing Tool Box. The projects will include making sewing accessories. \nRegistration is required and opens 7 days before class begins. Can’t gent into a class? Follow us  on Facebook and create with us. For ages 12 and up.
URL:https://ftp.harvestforyou.com/event/basic-sewing-for-teens-and-adults-11/
LOCATION:Brentwood Library\, 104 Oak St.\, Brentwood\, CA\, 94513\, US
ATTACH;FMTTYPE=image/jpeg:https://ftp.harvestforyou.com/wp-content/uploads/2019/02/2556_image_49864096_1326769617471962_5081336856839192576_n.jpg
END:VEVENT
BEGIN:VEVENT
DTSTART;TZID=UTC:20190226T170000
DTEND;TZID=UTC:20190226T200000
DTSTAMP:20260422T112451
CREATED:20190221T051423Z
LAST-MODIFIED:20190221T051423Z
UID:2639-1551200400-1551211200@ftp.harvestforyou.com
SUMMARY:Tasting Tuesday Featuring Silver Oak & Twomey
DESCRIPTION:Join us for COMPLIMENTARY TASTINGS featuring wines from Silver Oak and Twomey:\n– Twomey Sauvignon Blanc Napa/Sonoma ’17\n– Twomey Pinot Noir Russian River ‘ 16\n– Twomey Merlot Napa Valley ’14\n– Silver Oak Cabernet Sauvignon Napa Valley ’14 \n****Tuesday Night Special****\nSilver Oak and Twomey wines will be available for purchase by the glass. Purchase a bottle to enjoy at our restaurant or to take home and we’ll discount it $10
URL:https://ftp.harvestforyou.com/event/tasting-tuesday-featuring-silver-oak-twomey/
LOCATION:Zephyr Grill & Bar Brentwood\, 613 1st St\, Brentwood\, CA\, 94513\, US
ATTACH;FMTTYPE=image/jpeg:https://ftp.harvestforyou.com/wp-content/uploads/2019/02/2639_image_52474457_1207556309410365_677820722063605760_o.jpg
END:VEVENT
BEGIN:VEVENT
DTSTART;TZID=UTC:20190225T160000
DTEND;TZID=UTC:20190225T164500
DTSTAMP:20260422T112451
CREATED:20190208T052714Z
LAST-MODIFIED:20190208T052714Z
UID:2571-1551110400-1551113100@ftp.harvestforyou.com
SUMMARY:African Dancing\, Drumming and Traditions
DESCRIPTION:Special afternoon time! Learn to speak Swahili\, play games from the Congo\, and beat the Djembe drum at this educational “hands-on” program. In the Brentwood Community Center\, 35 Oak St. Bring a new book to this event to contribute to a Free Library at Garin Elementary\, in memory of Kayla Verbis.  \nBrought to you by the Friends of the Brentwood Library.
URL:https://ftp.harvestforyou.com/event/african-dancing-drumming-and-traditions/
LOCATION:Brentwood Community Center\, 35 Oak Street\, Brentwood\, CA\, 94513\, US
ATTACH;FMTTYPE=image/jpeg:https://ftp.harvestforyou.com/wp-content/uploads/2019/02/2571_image_48416007_1319822751499982_1268614579097698304_o.jpg
END:VEVENT
BEGIN:VEVENT
DTSTART;TZID=UTC:20190225T130000
DTEND;TZID=UTC:20190225T150000
DTSTAMP:20260422T112451
CREATED:20190213T082707Z
LAST-MODIFIED:20190213T082707Z
UID:2596-1551099600-1551106800@ftp.harvestforyou.com
SUMMARY:Farm-to-Fork Presentation
DESCRIPTION:How to Grow Brentwood into a Farm-to-Fork Destination\nJoin the City of Brentwood to learn about Sacramento region’s Farm-To-Fork Program. Hear Mike Testa and Kari Miskit of Visit Sacramento share how Sacramento has become America’s Farm-to-Fork Capital\, with a year-round platform that contributes to Sacramento’s successful culinary and agriculture vitality.  \nWhere: 2nd Floor Conference Room \n*No Registration Required
URL:https://ftp.harvestforyou.com/event/farm-to-fork-presentation/
LOCATION:Brentwood Community Center\, 35 Oak Street\, Brentwood\, CA\, 94513\, US
ATTACH;FMTTYPE=image/jpeg:https://ftp.harvestforyou.com/wp-content/uploads/2019/02/2596_image_51781210_10156008421685906_3342310534333595648_o.jpg
END:VEVENT
BEGIN:VEVENT
DTSTART;TZID=UTC:20190217T130000
DTEND;TZID=UTC:20190217T170000
DTSTAMP:20260422T112451
CREATED:20190216T051519Z
LAST-MODIFIED:20190216T051520Z
UID:2617-1550408400-1550422800@ftp.harvestforyou.com
SUMMARY:Cookie & Wine Pairing
DESCRIPTION:Girl scout cookies are seasonal\, delicious\, and dangerously addicting! That’s why we are embracing this cookie craze!  We’ve done all the hard work\, tirelessly sampling each cookie with each CFV varietal and we have the perfect pairings for you!  \nThis weekend\, we have a special Cookie & Wine Pairing\n$15 will get you 6 wines paired with cookies\n*$5 for wine club members \nSaturday Only – Girl Scouts will be at the vineyard from 12-3pm for those that need to purchase cookies.
URL:https://ftp.harvestforyou.com/event/cookie-wine-pairing/
LOCATION:Campos Family Vineyards\, 3501 Byer Road\, Byron\, CA\, 94514\, US
ATTACH;FMTTYPE=image/jpeg:https://ftp.harvestforyou.com/wp-content/uploads/2019/02/2617_image_52415977_2312036909069319_4955761273053642752_o.jpg
END:VEVENT
BEGIN:VEVENT
DTSTART;TZID=UTC:20190217T120000
DTEND;TZID=UTC:20190217T170000
DTSTAMP:20260422T112451
CREATED:20190211T155712Z
LAST-MODIFIED:20190211T155752Z
UID:2582-1550404800-1550422800@ftp.harvestforyou.com
SUMMARY:Friendship Week
DESCRIPTION:Let us help you celebrate this week with a bottle or two of our Rose.  Buy 1 bottle and get the 2nd bottle for 1 cent.  Available in the tasting room all this week!
URL:https://ftp.harvestforyou.com/event/friendship-week/
LOCATION:Hannah Nicole Vineyards & Winery\, 6700 Balfour Rd\, Brentwood\, CA\, 94513\, US
ATTACH;FMTTYPE=image/jpeg:https://ftp.harvestforyou.com/wp-content/uploads/2019/02/2582_image_52360945_2487289931284375_576921744028205056_o.jpg
END:VEVENT
BEGIN:VEVENT
DTSTART;TZID=UTC:20190216T200000
DTEND;TZID=UTC:20190216T230000
DTSTAMP:20260422T112451
CREATED:20190211T155856Z
LAST-MODIFIED:20190211T155856Z
UID:2587-1550347200-1550358000@ftp.harvestforyou.com
SUMMARY:Crosstown 5 - CoCo County Time
DESCRIPTION:Crosstown 5 is back for a local one at CoCo County Wine Company in downtown Brentwood. 21 and over only. Come on down and invite some friends. This promises to be a fun one ! More details to come !
URL:https://ftp.harvestforyou.com/event/crosstown-5-coco-county-time/
LOCATION:Brentwood’s Co. Co. County Wine Company\, 633 1st St\, Brentwood\, CA\, 94513\, US
ATTACH;FMTTYPE=image/jpeg:https://ftp.harvestforyou.com/wp-content/uploads/2019/02/2587_image_51105785_2438229906248633_1359958569159491584_o.jpg
END:VEVENT
BEGIN:VEVENT
DTSTART;TZID=UTC:20190216T180000
DTEND;TZID=UTC:20190216T213000
DTSTAMP:20260422T112451
CREATED:20190208T042214Z
LAST-MODIFIED:20190208T052311Z
UID:2525-1550340000-1550352600@ftp.harvestforyou.com
SUMMARY:Elvis Presley Tribute Night!
DESCRIPTION:Campos Family Vineyards Presents:  A tribute to the music of Elvis! \nFeaturing James Clark & The Jailhouse Rockers with The Sweet Sensations  \nJoin us at Campos Family Vineyards for an incredible evening with California’s Premier Elvis Tribute Band!   James Clark is a multi award winning Elvis Tribute Artist\, and has played to sold out crowds at Casinos and Festivals all across the western United States.  This is an experience you won’t want to miss\, with music spanning Elvis’ career and a dazzling stage show… \n James Clark has had the privilege to perform with ELVIS’ Jordanaires\, and has opened for such legendary acts as The Drifters\, Jerry Lee Lewis\, Paul Revere and The Raiders\, and Steppenwolf. We’re thrilled to bring the nostalgia and excitement of this unforgettable era of music to Campos! \nSoleil Wood Fired Pizza will be available for purchase.  \nThis show is 21+ Only.  \nNo outside Food or Alcohol Permitted. \nDoors open at 6pm.  \nThis is an INDOOR concert. Seating will be provided.
URL:https://ftp.harvestforyou.com/event/elvis-presley-tribute-night/
LOCATION:Campos Family Vineyards\, 3501 Byer Road\, Byron\, CA\, 94514\, US
ATTACH;FMTTYPE=image/jpeg:https://ftp.harvestforyou.com/wp-content/uploads/2019/02/2525_image_49899864_10161356540740261_8460143222935519232_o.jpg
END:VEVENT
BEGIN:VEVENT
DTSTART;TZID=UTC:20190216T120000
DTEND;TZID=UTC:20190216T163000
DTSTAMP:20260422T112451
CREATED:20190216T051520Z
LAST-MODIFIED:20190216T051520Z
UID:2619-1550318400-1550334600@ftp.harvestforyou.com
SUMMARY:Cookie & Wine Pairing
DESCRIPTION:Girl scout cookies are seasonal\, delicious\, and dangerously addicting! That’s why we are embracing this cookie craze!  We’ve done all the hard work\, tirelessly sampling each cookie with each CFV varietal and we have the perfect pairings for you!  \nThis weekend\, we have a special Cookie & Wine Pairing\n$15 will get you 6 wines paired with cookies\n*$5 for wine club members \nSaturday Only – Girl Scouts will be at the vineyard from 12-3pm for those that need to purchase cookies.
URL:https://ftp.harvestforyou.com/event/cookie-wine-pairing-2/
LOCATION:Campos Family Vineyards\, 3501 Byer Road\, Byron\, CA\, 94514\, US
ATTACH;FMTTYPE=image/jpeg:https://ftp.harvestforyou.com/wp-content/uploads/2019/02/2617_image_52415977_2312036909069319_4955761273053642752_o.jpg
END:VEVENT
BEGIN:VEVENT
DTSTART;TZID=UTC:20190215T190000
DTEND;TZID=UTC:20190215T220000
DTSTAMP:20260422T112451
CREATED:20190208T052310Z
LAST-MODIFIED:20190208T052310Z
UID:2539-1550257200-1550268000@ftp.harvestforyou.com
SUMMARY:Live Music with tom Duarte
DESCRIPTION:This guy is the real deal.  Come down and enjoy!  BTW it’s our 11th Anniversary!  😉
URL:https://ftp.harvestforyou.com/event/live-music-with-tom-duarte/
LOCATION:Brentwood’s Co. Co. County Wine Company\, 633 1st St\, Brentwood\, CA\, 94513\, US
ATTACH;FMTTYPE=image/jpeg:https://ftp.harvestforyou.com/wp-content/uploads/2019/02/2539_image_50887899_10156382396904335_8269691788776701952_o.jpg
END:VEVENT
BEGIN:VEVENT
DTSTART;TZID=UTC:20190213T130000
DTEND;TZID=UTC:20190213T150000
DTSTAMP:20260422T112451
CREATED:20190208T042213Z
LAST-MODIFIED:20190208T042213Z
UID:2522-1550062800-1550070000@ftp.harvestforyou.com
SUMMARY:Bath Bomb Making with Kate  - Wed February 13\, Natural ingredients!
DESCRIPTION:I know we have all used bath bombs (most) but what if you could make your own\, avoid unknown chemicals\, and use natural ingredients? Come! \nJoin us for a fun 2 hours of making easy bath bombs that will be sure to please you.  We will handle all the mess and you will have fun with your child or with your friends\,  while you both create really nice guest\, gift or personal use bath bombs!  We have many fragrances & essential oils to choose from and you can color the bath bombs in different natural clay or mica pigments.  \nThe ingredients are non toxic and your bath bomb you take home will be ready to use! Choose from circular shape\, cupcake shape or flat top and painted(personalized even).  Tons of fragrances and essential oils\,  like vanilla\, lavender\, cherry\, almond\, orange\, lemon verbena\, peppermint\, rose\, jasmine\, lemongrass\, and more!  Colors – shades of pink\, purple\, blue\, yellow\, natural and green!  We use Brazilian clays of rose\, violet\, sea clay and red clay.  Want to do more?  \nIf time allows you may purchase more ingredients and do another! You will make at least 4 to 6 bath bombs each with your $10 payment on Eventbrite.   \nWe sell additional materials if you need/want in class.  Want to make them at home?  No problem\, we give you the recipes.  Venue is a Private home on the water – with a nice outside deck.  Really nice venue that is cozy and comfortable.  Bring what you like to drink!  We provide water & some cheese & crackers and some home made brownies or cookies.  We will have some hot cocoa\, tea and spiced apple cider  as well.  Feel free to bring your own food or beverages (wine/beer ok) \nAny minor over 10 can join with an adult supervising!I \nWant to make more come back to another class and we will give you a discount.Other crafts and  items available for gifts to purchase as well. Thanks – Kate & Cindy \nExample of a lavender vanilla and clay bath bomb \nexample of colors using the round bath bomb molds
URL:https://ftp.harvestforyou.com/event/bath-bomb-making-with-kate-wed-february-13-natural-ingredients/
LOCATION:House on the Water\, 4328 Monterey Court\, Discovery Bay\, CA\, 94505\, US
ATTACH;FMTTYPE=image/jpeg:https://ftp.harvestforyou.com/wp-content/uploads/2019/02/2522_image_50120747_10161391536500261_7037601383930920960_o.jpg
END:VEVENT
BEGIN:VEVENT
DTSTART;TZID=UTC:20190212T180000
DTEND;TZID=UTC:20190212T200000
DTSTAMP:20260422T112451
CREATED:20190208T042211Z
LAST-MODIFIED:20190208T042211Z
UID:2520-1549994400-1550001600@ftp.harvestforyou.com
SUMMARY:Sip & Make bath bombs\, over 21 only  - Tues February 12
DESCRIPTION:Lets sip  and make bath bombs at a house on the water!  You bring your wine and have fun. We’ll make bath bombs using natural ingredients! \nJoin us for a fun 2 hours of making easy bath bombs that will be sure to please you.  We will handle all the mess and you will have fun  and relax on the water\, sipping wine and making nice  gift or personal use bath bombs!   \nWe have many fragrances & essential oils to choose from and you can color the bath bombs in different natural clay or mica pigments. \, The ingredients are non toxic and your bath bomb you take home will be ready to use! Choose from circular shape\,  heart shaped\, cupcake shape or flat top and painted(personalized even).  Tons of fragrances and essential oils\,  like vanilla\, lavender\, cherry\, almond\, orange\, lemon verbena\, peppermint\, rose\, jasmine\, lemongrass\, and more!  Colors – shades of pink\, purple\, blue\, yellow\, natural and green!  We use Brazilian clays of rose\, violet\, sea clay and red clay. Top them off with sea salts!  Want to do more?  If time allows you may purchase more ingredients and do another! You will make at least 4 to 6 bath bombs each with your $10 payment on Eventbrite.  \nWe sell additional materials if you need/want in class.  Want to make them at home?  No problem\, we give you the recipes.   \nVenue is a Private home on the water – with a nice outside deck.  Really nice venue that is cozy and comfortable.   \nBring what you like to drink!  We provide water & some cheese & crackers and you can bring your wine to sip on while you make them.  We will have some hot cocoa\, tea and spiced apple cider  as well.  Feel free to bring your own food or beverages (wine/beer ok)Anyone can join over 21! \nWant to make more come back to another class and we will give you a discount.Other crafts and  items available for gifts to purchase as well. Thanks – Kate  \nExample of a lavender vanilla and clay bath bomb \nexample of colors using the round bath bomb molds
URL:https://ftp.harvestforyou.com/event/sip-make-bath-bombs-over-21-only-tues-february-12/
LOCATION:House on the Water\, 4328 Monterey Court\, Discovery Bay\, CA\, 94505\, US
ATTACH;FMTTYPE=image/jpeg:https://ftp.harvestforyou.com/wp-content/uploads/2019/02/2520_image_51469848_10161439538990261_2884355768042127360_o.jpg
END:VEVENT
BEGIN:VEVENT
DTSTART;TZID=UTC:20190210T140000
DTEND;TZID=UTC:20190210T160000
DTSTAMP:20260422T112451
CREATED:20190208T042210Z
LAST-MODIFIED:20190208T042210Z
UID:2518-1549807200-1549814400@ftp.harvestforyou.com
SUMMARY:Bath Bomb Making with Kate  - Sunday February 10\, Natural ingredients!
DESCRIPTION:I know we have all used bath bombs (most) but what if you could make your own\, avoid unknown chemicals\, and use natural ingredients? Come! \nJoin us for a fun 2 hours of making easy bath bombs that will be sure to please you.  We will handle all the mess and you will have fun with your child or with your friends\,  while you both create really nice guest\, gift or personal use bath bombs!  We have many fragrances & essential oils to choose from and you can color the bath bombs in different natural clay or mica pigments. \, The ingredients are non toxic and your bath bomb you take home will be ready to use! Choose from circular shape\, cupcake shape or flat top and painted(personalized even).  Tons of fragrances and essential oils\,  like vanilla\, lavender\, cherry\, almond\, orange\, lemon verbena\, peppermint\, rose\, jasmine\, lemongrass\, and more!  Colors – shades of pink\, purple\, blue\, yellow\, natural and green!  We use Brazilian clays of rose\, violet\, sea clay and red clay. Top them off with sea salts!  Want to do more?  If time allows you may purchase more ingredients and do another! You will make at least 4 to 6 bath bombs each with your $10 payment on Eventbrite.  We sell additional materials if you need/want in class.  Want to make them at home?  No problem\, we give you the recipes.  Venue is a Private home on the water – with a nice outside deck.  Really nice venue that is cozy and comfortable.  Bring what you like to drink!  We provide water & some cheese & crackers and some home made brownies or cookies.  We will have some hot cocoa\, tea and spiced apple cider  as well.  Feel free to bring your own food or beverages (wine/beer ok)Any minor over 10 can join with an adult supervising!If you are not completely satisfied – we can try again\, or give you a discount code to use for the next class.  Want to make more come back to another class and we will give you a discount.Other crafts and  items available for gifts to purchase as well. Thanks – Kate & Cindy \nExample of a lavender vanilla and clay bath bomb \nexample of colors using the round bath bomb molds
URL:https://ftp.harvestforyou.com/event/bath-bomb-making-with-kate-sunday-february-10-natural-ingredients/
LOCATION:House on the Water\, 4328 Monterey Court\, Discovery Bay\, CA\, 94505\, US
ATTACH;FMTTYPE=image/jpeg:https://ftp.harvestforyou.com/wp-content/uploads/2019/02/2518_image_50881555_10161435568190261_6677568676532584448_o.jpg
END:VEVENT
BEGIN:VEVENT
DTSTART;TZID=UTC:20190209T200000
DTEND;TZID=UTC:20190209T230000
DTSTAMP:20260422T112451
CREATED:20190208T052309Z
LAST-MODIFIED:20190208T052309Z
UID:2537-1549742400-1549753200@ftp.harvestforyou.com
SUMMARY:Live Music with The Big Jangle
DESCRIPTION:The wait is over……
URL:https://ftp.harvestforyou.com/event/live-music-with-the-big-jangle/
LOCATION:Brentwood’s Co. Co. County Wine Company\, 633 1st St\, Brentwood\, CA\, 94513\, US
ATTACH;FMTTYPE=image/jpeg:https://ftp.harvestforyou.com/wp-content/uploads/2019/02/2537_image_51007218_10156382388349335_8369738756969725952_n.jpg
END:VEVENT
BEGIN:VEVENT
DTSTART;TZID=UTC:20190209T120000
DTEND;TZID=UTC:20190209T170000
DTSTAMP:20260422T112451
CREATED:20190208T042209Z
LAST-MODIFIED:20190208T042209Z
UID:2515-1549713600-1549731600@ftp.harvestforyou.com
SUMMARY:A Tipsy Release
DESCRIPTION:Come experience this latest creation from Petersen Vineyards. A sweet white vermouth made from our Chardonnay grape. Impress every friend and guest with a refreshing cocktail made with our Tipsy or have it on the rocks. My favorite – 2 oz Tipsy\, 4 oz tonic water\, some ice and a slice of orange peel – It says pool time all day long!  \nFor our release event there will be food for purchase and live music. Our local vendors will be here with Valentines gifts. No tickets required!
URL:https://ftp.harvestforyou.com/event/a-tipsy-release/
LOCATION:Petersen Vineyards\, 101 Blaine Lane\, Knightsen\, CA\, 94548\, US
ATTACH;FMTTYPE=image/jpeg:https://ftp.harvestforyou.com/wp-content/uploads/2019/02/2515_image_51048593_835143126826776_8056876081950490624_o.jpg
END:VEVENT
BEGIN:VEVENT
DTSTART;TZID=UTC:20190209T120000
DTEND;TZID=UTC:20190209T160000
DTSTAMP:20260422T112451
CREATED:20190208T042207Z
LAST-MODIFIED:20190208T042207Z
UID:2512-1549713600-1549728000@ftp.harvestforyou.com
SUMMARY:Valentine Artisan Faire
DESCRIPTION:Local artisan vendors selling their home crafted products for unique Valentine gifts.  Booth displays in The Urban Edge Farm Store parking lot or inside the store if it is raining.  Promoting the buy local movement. Support local farmers & vendors.\nRain or shine event.
URL:https://ftp.harvestforyou.com/event/valentine-artisan-faire/
LOCATION:The Urban Edge Farm Store\, 2017 walnut blvd\, Brentwood\, CA\, 94513\, US
ATTACH;FMTTYPE=image/jpeg:https://ftp.harvestforyou.com/wp-content/uploads/2019/02/2512_image_49899768_292197681489842_5824634681747832832_n.jpg
END:VEVENT
BEGIN:VEVENT
DTSTART;TZID=UTC:20190208T190000
DTEND;TZID=UTC:20190208T220000
DTSTAMP:20260422T112451
CREATED:20190208T042206Z
LAST-MODIFIED:20190208T042206Z
UID:2509-1549652400-1549663200@ftp.harvestforyou.com
SUMMARY:Live music with David Correa
DESCRIPTION:Come check him out!
URL:https://ftp.harvestforyou.com/event/live-music-with-david-correa/
LOCATION:Brentwood’s Co. Co. County Wine Company\, 633 1st St\, Brentwood\, CA\, 94513\, US
ATTACH;FMTTYPE=image/jpeg:https://ftp.harvestforyou.com/wp-content/uploads/2019/02/2509_image_50796962_10156382386959335_4451419653079564288_n.jpg
END:VEVENT
BEGIN:VEVENT
DTSTART;TZID=UTC:20190207T180000
DTEND;TZID=UTC:20190207T200000
DTSTAMP:20260422T112451
CREATED:20190208T054545Z
LAST-MODIFIED:20190208T054545Z
UID:2579-1549562400-1549569600@ftp.harvestforyou.com
SUMMARY:H'Arts & Wine at the Gallery
DESCRIPTION:Come and sample wine from Legendre Cellars and enjoy appetizers as you support the Brentwood Community Chorus. End the evening with the opportunity to win fantastic prizes as part of a raffle. \nTickets are $20 and may be purchased online\, or at the door.
URL:https://ftp.harvestforyou.com/event/harts-wine-at-the-gallery/
LOCATION:Brentwood Community Chorus under the Direction of Sue Stuart\, 809 Second Street\, Brentwood\, CA\, 94513\, US
ATTACH;FMTTYPE=image/jpeg:https://ftp.harvestforyou.com/wp-content/uploads/2019/02/2579_image_50544963_2274339942586594_5364907090395529216_o.jpg
END:VEVENT
BEGIN:VEVENT
DTSTART;TZID=UTC:20190207T170000
DTEND;TZID=UTC:20190207T200000
DTSTAMP:20260422T112451
CREATED:20190208T034557Z
LAST-MODIFIED:20190208T034557Z
UID:2504-1549558800-1549569600@ftp.harvestforyou.com
SUMMARY:Thirsty Thursday - February 7\, 2019
DESCRIPTION:Happy New Year! We are excited to bring back Thirsty Thursdays for 2019! ** Thirsty Thursday’s are the first Thursday of every month.  \nTake a night off and join us for our Thirsty Thursday and let our caterer cook for you as you enjoy a glass of wine! Live music by Steve Hanson & Toree McGee. Registration is required if you are purchasing a meal (outside food will not be permitted at this event). Enjoy your dinner at Hannah Nicole or get a “To Go” box and a bottle of wine to enjoy at home. \nFor $25 you get one glass of wine and have a choice of: \nRotisserie Chicken AND Boneless Pork Loin with Garlic Mashed Potatos\, Green\, Salad\, Dinner Roll and a Hannah Nicole Cookie for dessert. \nVegetarian: Creamy Portobello Mushroom Pasta with Green Salad\, Dinner Roll and Hannah Nicole Cookie for dessert. \nhttps://www.eventbrite.com/e/thirsty-thursday-tickets-54377143500
URL:https://ftp.harvestforyou.com/event/thirsty-thursday-february-7-2019/
LOCATION:Hannah Nicole Vineyards & Winery\, 6700 Balfour Rd\, Brentwood\, CA\, 94513\, US
ATTACH;FMTTYPE=image/jpeg:https://ftp.harvestforyou.com/wp-content/uploads/2019/02/2504_image_49398567_2428699837143385_5450716800348061696_n.jpg
END:VEVENT
END:VCALENDAR